BEGIN:VCALENDAR
VERSION:2.0
PRODID:-//PKF Littlejohn//NONSGML Events//EN
CALSCALE:GREGORIAN
X-ORIGINAL-URL:https://www.pkf-l.com/events/vat-ipt-lunch-and-learn-with-leading-barristers-monckton-chambers/
X-WR-CALDESC:PKF Littlejohn - Events
X-WR-TIMEZONE:Europe/London
BEGIN:VTIMEZONE
TZID:Europe/London
X-LIC-LOCATION:Europe/London
BEGIN:DAYLIGHT
TZOFFSETFROM:+0000
TZOFFSETTO:+0100
TZNAME:BST
DTSTART:19700329T010000
RRULE:FREQ=YEARLY;BYMONTH=3;BYDAY=-1SU;BYHOUR=1;BYMINUTE=0;BYSECOND=0
END:DAYLIGHT
BEGIN:STANDARD
TZOFFSETFROM:+0100
TZOFFSETTO:+0000
TZNAME:GMT
DTSTART:19701025T010000
RRULE:FREQ=YEARLY;BYMONTH=10;BYDAY=-1SU;BYHOUR=1;BYMINUTE=0;BYSECOND=0
END:STANDARD
END:VTIMEZONE
BEGIN:VEVENT
UID:69eb2334bf9f2@pkfl-littlejohn.com
STATUS:CONFIRMED
DTSTAMP:20260424T080052Z
CREATED:20220921T123000Z
LAST-MODIFIED:20260424T080052Z
DTSTART;TZID=Europe/London:20220921T123000
DTEND;TZID=Europe/London:20220921T123000
SUMMARY:VAT/IPT Lunch and Learn with leading barristers Monckton Chambers
 
DESCRIPTION:PKF Littlejohn and Monckton Chambers invite you to attend a 'Lunch and
  Learn' session on Wednesday 21 September at Victorian Bath House (a
  stone’s throw from Liverpool Street Station) to update you on:HMRC’s
  current arguments in VAT / IPT case law surrounding insurance /
  insurance-related supplies  What the courts have decided so far in
  relation to HMRC’s viewsWhat you can do to protect yourself from
  potential future VAT / IPT costs and / or protect your position through
  VAT / IPT repayment claims to HMRC where appropriate.Registration will
  open at midday with a buffet lunch available and the session itself
  running from 12.00 to 2.00pm.Our Speakers Mark EllisPKF LittlejohnPeter
  MantleMonckton ChambersValentina Sloane QCMonckton ChambersBrendan
  McGurkMonckton Chambers
 
X-ALT-DESC;FMTTYPE=text/html:<p>PKF Littlejohn and Monckton Chambers invite you to attend a &#039;Lunch
  and Learn&#039; session on Wednesday 21 September at Victorian Bath House
  (a stone’s throw from Liverpool Street Station) to update you
  on:HMRC’s current arguments in VAT / IPT case law surrounding insurance
  / insurance-related supplies  What the courts have decided so far in
  relation to HMRC’s viewsWhat you can do to protect yourself from
  potential future VAT / IPT costs and / or protect your position through
  VAT / IPT repayment claims to HMRC where appropriate.Registration will
  open at midday with a buffet lunch available and the session itself
  running from 12.00 to 2.00pm.Our Speakers Mark EllisPKF LittlejohnPeter
  MantleMonckton ChambersValentina Sloane QCMonckton ChambersBrendan
  McGurkMonckton Chambers</p>
 
ORGANIZER;CN="PKF Littlejohn":MAILTO:info@pkfl-littlejohn.com
URL;VALUE=URI:https://www.pkf-l.com/events/vat-ipt-lunch-and-learn-with-leading-barristers-monckton-chambers/
END:VEVENT
END:VCALENDAR
