BEGIN:VCALENDAR
VERSION:2.0
PRODID:-//PKF Littlejohn//NONSGML Events//EN
CALSCALE:GREGORIAN
X-ORIGINAL-URL:https://www.pkf-l.com/events/suralink-user-group/
X-WR-CALDESC:PKF Littlejohn - Events
X-WR-TIMEZONE:Europe/London
BEGIN:VTIMEZONE
TZID:Europe/London
X-LIC-LOCATION:Europe/London
BEGIN:DAYLIGHT
TZOFFSETFROM:+0000
TZOFFSETTO:+0100
TZNAME:BST
DTSTART:19700329T010000
RRULE:FREQ=YEARLY;BYMONTH=3;BYDAY=-1SU;BYHOUR=1;BYMINUTE=0;BYSECOND=0
END:DAYLIGHT
BEGIN:STANDARD
TZOFFSETFROM:+0100
TZOFFSETTO:+0000
TZNAME:GMT
DTSTART:19701025T010000
RRULE:FREQ=YEARLY;BYMONTH=10;BYDAY=-1SU;BYHOUR=1;BYMINUTE=0;BYSECOND=0
END:STANDARD
END:VTIMEZONE
BEGIN:VEVENT
UID:69e63c9be0255@pkfl-littlejohn.com
STATUS:CONFIRMED
DTSTAMP:20260420T144755Z
CREATED:20210224T150000Z
LAST-MODIFIED:20260420T144755Z
DTSTART;TZID=Europe/London:20210224T150000
DTEND;TZID=Europe/London:20210224T160000
SUMMARY:Suralink User Group
 
DESCRIPTION:PKF Littlejohn are happy to announce our next Suralink User Group which
  has previously been used to share best practices and providing help and
  guidance to firms who are using or trialling the Suralink platform.Our
  next User Group focuses on:Suralink Administrative DashboardData
  protection and GDPRClient success storiesWe will have a Q&amp;A panel
  discussion at the end of the session.
 
X-ALT-DESC;FMTTYPE=text/html:<p>PKF Littlejohn are happy to announce our next Suralink User Group which
  has previously been used to share best practices and providing help and
  guidance to firms who are using or trialling the Suralink platform.Our
  next User Group focuses on:Suralink Administrative DashboardData
  protection and GDPRClient success storiesWe will have a Q&amp;amp;A panel
  discussion at the end of the session.</p>
 
CATEGORIES:past events
 
ORGANIZER;CN="PKF Littlejohn":MAILTO:info@pkfl-littlejohn.com
URL;VALUE=URI:https://www.pkf-l.com/events/suralink-user-group/
END:VEVENT
END:VCALENDAR
