BEGIN:VCALENDAR
VERSION:2.0
PRODID:-//PKF Littlejohn//NONSGML Events//EN
CALSCALE:GREGORIAN
X-ORIGINAL-URL:https://www.pkf-l.com/events/structuring-your-international-expansion/
X-WR-CALDESC:PKF Littlejohn - Events
X-WR-TIMEZONE:Europe/London
BEGIN:VTIMEZONE
TZID:Europe/London
X-LIC-LOCATION:Europe/London
BEGIN:DAYLIGHT
TZOFFSETFROM:+0000
TZOFFSETTO:+0100
TZNAME:BST
DTSTART:19700329T010000
RRULE:FREQ=YEARLY;BYMONTH=3;BYDAY=-1SU;BYHOUR=1;BYMINUTE=0;BYSECOND=0
END:DAYLIGHT
BEGIN:STANDARD
TZOFFSETFROM:+0100
TZOFFSETTO:+0000
TZNAME:GMT
DTSTART:19701025T010000
RRULE:FREQ=YEARLY;BYMONTH=10;BYDAY=-1SU;BYHOUR=1;BYMINUTE=0;BYSECOND=0
END:STANDARD
END:VTIMEZONE
BEGIN:VEVENT
UID:69e63d901d65e@pkfl-littlejohn.com
STATUS:CONFIRMED
DTSTAMP:20260420T145200Z
CREATED:20211019T100000Z
LAST-MODIFIED:20260420T145200Z
DTSTART;TZID=Europe/London:20211019T100000
DTEND;TZID=Europe/London:20211019T110000
SUMMARY:Structuring your international expansion
 
DESCRIPTION:We’re delighted to invite you to register for a free series of
  International Tax webinars. Click on the links below to find out more and
  to register,Are you thinking of expanding overseas? Have you thought
  about if you need to form an entity or a branch? If you do where is the
  best place for it to sit within your group or do you even need one? How
  will you finance the operation and how will you repatriate funds back to
  the parent? Join Chris Riley and Catherine Heyes as they consider these
  questions and more.
 
X-ALT-DESC;FMTTYPE=text/html:<p>We’re delighted to invite you to register for a free series of
  International Tax webinars. Click on the links below to find out more and
  to register,Are you thinking of expanding overseas? Have you thought
  about if you need to form an entity or a branch? If you do where is the
  best place for it to sit within your group or do you even need one? How
  will you finance the operation and how will you repatriate funds back to
  the parent? Join Chris Riley and Catherine Heyes as they consider these
  questions and more.</p>
 
CATEGORIES:past events
 
ORGANIZER;CN="PKF Littlejohn":MAILTO:info@pkfl-littlejohn.com
URL;VALUE=URI:https://www.pkf-l.com/events/structuring-your-international-expansion/
END:VEVENT
END:VCALENDAR
