BEGIN:VCALENDAR
VERSION:2.0
PRODID:-//PKF Littlejohn//NONSGML Events//EN
CALSCALE:GREGORIAN
X-ORIGINAL-URL:https://www.pkf-l.com/events/simplifying-document-workflow-in-internal-audit/
X-WR-CALDESC:PKF Littlejohn - Events
X-WR-TIMEZONE:Europe/London
BEGIN:VTIMEZONE
TZID:Europe/London
X-LIC-LOCATION:Europe/London
BEGIN:DAYLIGHT
TZOFFSETFROM:+0000
TZOFFSETTO:+0100
TZNAME:BST
DTSTART:19700329T010000
RRULE:FREQ=YEARLY;BYMONTH=3;BYDAY=-1SU;BYHOUR=1;BYMINUTE=0;BYSECOND=0
END:DAYLIGHT
BEGIN:STANDARD
TZOFFSETFROM:+0100
TZOFFSETTO:+0000
TZNAME:GMT
DTSTART:19701025T010000
RRULE:FREQ=YEARLY;BYMONTH=10;BYDAY=-1SU;BYHOUR=1;BYMINUTE=0;BYSECOND=0
END:STANDARD
END:VTIMEZONE
BEGIN:VEVENT
UID:69e63dcda8b3a@pkfl-littlejohn.com
STATUS:CONFIRMED
DTSTAMP:20260420T145301Z
CREATED:20210428T160000Z
LAST-MODIFIED:20260420T145301Z
DTSTART;TZID=Europe/London:20210428T160000
DTEND;TZID=Europe/London:20210428T173000
SUMMARY:Simplifying Document Workflow in Internal Audit
 
DESCRIPTION:Is your team spending time requesting and chasing documents throughout the
  audit process? Are you lacking visibility into outstanding items,
  comments and clarifications? Struggling with miscommunications between
  team members with over reliance on individual emails? Getting frustrated
  by the inefficiencies and manual tasks required to complete requests and
  verify submissions?Suralink is used in Internal Audit to improve process
  and provide the visibility needed to keep compliance requirements on
  track.During this webinar, you'll learn how Suralink's dynamic workflow
  solution can help you solve these problems, while increasing efficiency
  and improving the audit experience for everyone involved. You'll see a
  live demo of the Suralink platform in action.Register now and come learn
  how you can streamline your internal audit process.
 
X-ALT-DESC;FMTTYPE=text/html:<p>Is your team spending time requesting and chasing documents throughout
  the audit process? Are you lacking visibility into outstanding items,
  comments and clarifications? Struggling with miscommunications between
  team members with over reliance on individual emails? Getting frustrated
  by the inefficiencies and manual tasks required to complete requests and
  verify submissions?Suralink is used in Internal Audit to improve process
  and provide the visibility needed to keep compliance requirements on
  track.During this webinar, you&#039;ll learn how Suralink&#039;s dynamic
  workflow solution can help you solve these problems, while increasing
  efficiency and improving the audit experience for everyone involved.
  You&#039;ll see a live demo of the Suralink platform in action.Register
  now and come learn how you can streamline your internal audit
  process.</p>
 
CATEGORIES:past events
 
ORGANIZER;CN="PKF Littlejohn":MAILTO:info@pkfl-littlejohn.com
URL;VALUE=URI:https://www.pkf-l.com/events/simplifying-document-workflow-in-internal-audit/
END:VEVENT
END:VCALENDAR
