BEGIN:VCALENDAR
VERSION:2.0
PRODID:-//PKF Littlejohn//NONSGML Events//EN
CALSCALE:GREGORIAN
X-ORIGINAL-URL:https://www.pkf-l.com/events/family-office-team-virtual-family-gathering/
X-WR-CALDESC:PKF Littlejohn - Events
X-WR-TIMEZONE:Europe/London
BEGIN:VTIMEZONE
TZID:Europe/London
X-LIC-LOCATION:Europe/London
BEGIN:DAYLIGHT
TZOFFSETFROM:+0000
TZOFFSETTO:+0100
TZNAME:BST
DTSTART:19700329T010000
RRULE:FREQ=YEARLY;BYMONTH=3;BYDAY=-1SU;BYHOUR=1;BYMINUTE=0;BYSECOND=0
END:DAYLIGHT
BEGIN:STANDARD
TZOFFSETFROM:+0100
TZOFFSETTO:+0000
TZNAME:GMT
DTSTART:19701025T010000
RRULE:FREQ=YEARLY;BYMONTH=10;BYDAY=-1SU;BYHOUR=1;BYMINUTE=0;BYSECOND=0
END:STANDARD
END:VTIMEZONE
BEGIN:VEVENT
UID:69e63d2c7d3cf@pkfl-littlejohn.com
STATUS:CONFIRMED
DTSTAMP:20260420T145020Z
CREATED:20201119T160000Z
LAST-MODIFIED:20260420T145020Z
DTSTART;TZID=Europe/London:20201119T160000
DTEND;TZID=Europe/London:20201119T173000
SUMMARY:Family Office Team: Virtual Family Gathering
 
DESCRIPTION:Our Family Office team is pleased to announce our next Virtual Family
  Gathering which will take place on 19 November 4pm-5.30pm GMT on Zoom.
  We will discuss the challenges and opportunities in respect of the
  current economic, health and social environment. Hannatu Gentles, family
  member and CFO and Simon Foster, CEO from TY Danjuma Private Office will
  share their family office background, their activities and  how
  they are managing the impact of COVID on their business interests and
  their family. They will also share their outlook for 2021 and how
  they are supporting communities during this difficult time. As always,
  the floor will be open for all participants to share their views.The
  purpose of these meetings is very simple - to enable family members and
  Single Family Office executives from the UK and around the world to meet,
  share and learn in a safe space.Our last Virtual Family Gathering on 9
  September attracted 18 family/single family office executives from 12
  countries, and featured a detailed perspective from Andy Wates of the
  Wates Group regarding his own family’s journey over the last 7
  months.[related-people tagline="If you are interested in joining, please
  contact us"]
 
X-ALT-DESC;FMTTYPE=text/html:<p>Our Family Office team is pleased to announce our next Virtual Family
  Gathering which will take place on 19 November 4pm-5.30pm GMT on Zoom.
  We will discuss the challenges and opportunities in respect of the
  current economic, health and social environment. Hannatu Gentles, family
  member and CFO and Simon Foster, CEO from TY Danjuma Private Office will
  share their family office background, their activities and  how
  they are managing the impact of COVID on their business interests and
  their family. They will also share their outlook for 2021 and how
  they are supporting communities during this difficult time. As always,
  the floor will be open for all participants to share their views.The
  purpose of these meetings is very simple - to enable family members and
  Single Family Office executives from the UK and around the world to meet,
  share and learn in a safe space.Our last Virtual Family Gathering on 9
  September attracted 18 family/single family office executives from 12
  countries, and featured a detailed perspective from Andy Wates of the
  Wates Group regarding his own family’s journey over the last 7
  months.[related-people tagline=&quot;If you are interested in joining,
  please contact us&quot;]</p>
 
CATEGORIES:past events
 
ORGANIZER;CN="PKF Littlejohn":MAILTO:info@pkfl-littlejohn.com
URL;VALUE=URI:https://www.pkf-l.com/events/family-office-team-virtual-family-gathering/
END:VEVENT
END:VCALENDAR
