BEGIN:VCALENDAR
VERSION:2.0
PRODID:-//PKF Littlejohn//NONSGML Events//EN
CALSCALE:GREGORIAN
X-ORIGINAL-URL:https://www.pkf-l.com/events/external-certification-and-identifying-your-fraud-prevention-capabilities/
X-WR-CALDESC:PKF Littlejohn - Events
X-WR-TIMEZONE:Europe/London
BEGIN:VTIMEZONE
TZID:Europe/London
X-LIC-LOCATION:Europe/London
BEGIN:DAYLIGHT
TZOFFSETFROM:+0000
TZOFFSETTO:+0100
TZNAME:BST
DTSTART:19700329T010000
RRULE:FREQ=YEARLY;BYMONTH=3;BYDAY=-1SU;BYHOUR=1;BYMINUTE=0;BYSECOND=0
END:DAYLIGHT
BEGIN:STANDARD
TZOFFSETFROM:+0100
TZOFFSETTO:+0000
TZNAME:GMT
DTSTART:19701025T010000
RRULE:FREQ=YEARLY;BYMONTH=10;BYDAY=-1SU;BYHOUR=1;BYMINUTE=0;BYSECOND=0
END:STANDARD
END:VTIMEZONE
BEGIN:VEVENT
UID:69e658be27f22@pkfl-littlejohn.com
STATUS:CONFIRMED
DTSTAMP:20260420T164758Z
CREATED:20210603T150000Z
LAST-MODIFIED:20260420T164758Z
DTSTART;TZID=Europe/London:20210603T150000
DTEND;TZID=Europe/London:20210603T163000
SUMMARY:External certification and identifying your fraud prevention capabilities
 
DESCRIPTION:We would be delighted if you could join us on the 3 June at 3pm for the
  latest in our PKF’s Cyber Security and Fraud Prevention webinar series.
  We are joined by Dr Emma Philpott MBE - CEO, IASME who work alongside a
  network of over 250 Certification Bodies across the UK and Crown
  Dependencies to help certify organisations of all sizes in both cyber
  security and counter fraud.IASME is committed to helping businesses
  improve their cyber security, risk management and good governance through
  an effective and accessible range of certificationsAs part of the series,
  our next focus is on external certification and identifying your fraud
  prevention capabilities. Demonstrating the choices available, key
  differences and identify which relates most closely to your business.
  We’ll also run through some typical issues when preparing for
  certification.Achieving certification provides re-assurance to your
  customers, shareholders and the market that your business takes
  information security seriously, while also increasing the level of
  protection you provide your people.We can help define which certification
  level is right for you and assist with your readiness, not just to
  achieve certification but also to add business value along the path.
 
X-ALT-DESC;FMTTYPE=text/html:<p>We would be delighted if you could join us on the 3 June at 3pm for the
  latest in our PKF’s Cyber Security and Fraud Prevention webinar series.
  We are joined by Dr Emma Philpott MBE - CEO, IASME who work alongside a
  network of over 250 Certification Bodies across the UK and Crown
  Dependencies to help certify organisations of all sizes in both cyber
  security and counter fraud.IASME is committed to helping businesses
  improve their cyber security, risk management and good governance through
  an effective and accessible range of certificationsAs part of the series,
  our next focus is on external certification and identifying your fraud
  prevention capabilities. Demonstrating the choices available, key
  differences and identify which relates most closely to your business.
  We’ll also run through some typical issues when preparing for
  certification.Achieving certification provides re-assurance to your
  customers, shareholders and the market that your business takes
  information security seriously, while also increasing the level of
  protection you provide your people.We can help define which certification
  level is right for you and assist with your readiness, not just to
  achieve certification but also to add business value along the path.</p>
 
CATEGORIES:past events
 
ORGANIZER;CN="PKF Littlejohn":MAILTO:info@pkfl-littlejohn.com
URL;VALUE=URI:https://www.pkf-l.com/events/external-certification-and-identifying-your-fraud-prevention-capabilities/
END:VEVENT
END:VCALENDAR
