BEGIN:VCALENDAR
VERSION:2.0
PRODID:-//PKF Littlejohn//NONSGML Events//EN
CALSCALE:GREGORIAN
X-ORIGINAL-URL:https://www.pkf-l.com/events/employers-club-2/
X-WR-CALDESC:PKF Littlejohn - Events
X-WR-TIMEZONE:Europe/London
BEGIN:VTIMEZONE
TZID:Europe/London
X-LIC-LOCATION:Europe/London
BEGIN:DAYLIGHT
TZOFFSETFROM:+0000
TZOFFSETTO:+0100
TZNAME:BST
DTSTART:19700329T010000
RRULE:FREQ=YEARLY;BYMONTH=3;BYDAY=-1SU;BYHOUR=1;BYMINUTE=0;BYSECOND=0
END:DAYLIGHT
BEGIN:STANDARD
TZOFFSETFROM:+0100
TZOFFSETTO:+0000
TZNAME:GMT
DTSTART:19701025T010000
RRULE:FREQ=YEARLY;BYMONTH=10;BYDAY=-1SU;BYHOUR=1;BYMINUTE=0;BYSECOND=0
END:STANDARD
END:VTIMEZONE
BEGIN:VEVENT
UID:69e657f4adf58@pkfl-littlejohn.com
STATUS:CONFIRMED
DTSTAMP:20260420T164436Z
CREATED:20230207T163000Z
LAST-MODIFIED:20260420T164436Z
DTSTART;TZID=Europe/London:20230207T163000
DTEND;TZID=Europe/London:20230207T173000
SUMMARY:Employers&#8217; Club
 
DESCRIPTION:We are delighted to invite you to our second event for our Employers’
  Club, the place to go for all things relating to human capital.In this
  session:Environmental, Social and Governance or “ESG” is a hot topic
  at the moment. We will look at the role that ESG plays within a tax
  framework and what companies should be considering when developing their
  ESG policy PKF Head of Technology Phil Broadbery will discuss the role
  that IT plays in the management of employment taxes, IT security and
  challenges faced by companies when protecting data Our special guest
  presenter David Chandler, Director and Co-Founder of Human Resources User
  experience (HRUX), is a highly experienced individual who will talk about
  the increasing role technology is playing for both companies and HMRC in
  employment tax compliance. HRUX focuses on delivering technology and
  process based solutions to help businesses better manage their employment
  tax compliance whilst also reducing the time and costs associated with
  doing so. We have already seen lots of exciting developments proposed for
  the next tax cycle.Further detailsDate: Tuesday 7 February 2023Time:
  16:30 - 17:30 Platform: Zoom - to register, please click hereIt is
  important to note that the technology sessions are not designed for IT
  experts, but for people who use technology every day in their roles and
  want to understand how this is likely to change over the coming years.
 
X-ALT-DESC;FMTTYPE=text/html:<p>We are delighted to invite you to our second event for our Employers’
  Club, the place to go for all things relating to human capital.In this
  session:Environmental, Social and Governance or “ESG” is a hot topic
  at the moment. We will look at the role that ESG plays within a tax
  framework and what companies should be considering when developing their
  ESG policy PKF Head of Technology Phil Broadbery will discuss the role
  that IT plays in the management of employment taxes, IT security and
  challenges faced by companies when protecting data Our special guest
  presenter David Chandler, Director and Co-Founder of Human Resources User
  experience (HRUX), is a highly experienced individual who will talk about
  the increasing role technology is playing for both companies and HMRC in
  employment tax compliance. HRUX focuses on delivering technology and
  process based solutions to help businesses better manage their employment
  tax compliance whilst also reducing the time and costs associated with
  doing so. We have already seen lots of exciting developments proposed for
  the next tax cycle.Further detailsDate: Tuesday 7 February 2023Time:
  16:30 - 17:30 Platform: Zoom - to register, please click hereIt is
  important to note that the technology sessions are not designed for IT
  experts, but for people who use technology every day in their roles and
  want to understand how this is likely to change over the coming
  years.</p>
 
CATEGORIES:past events
 
ORGANIZER;CN="PKF Littlejohn":MAILTO:info@pkfl-littlejohn.com
URL;VALUE=URI:https://www.pkf-l.com/events/employers-club-2/
END:VEVENT
END:VCALENDAR
