BEGIN:VCALENDAR
VERSION:2.0
PRODID:-//PKF Littlejohn//NONSGML Events//EN
CALSCALE:GREGORIAN
X-ORIGINAL-URL:https://www.pkf-l.com/events/cybersecurity-and-fraud-prevention/
X-WR-CALDESC:PKF Littlejohn - Events
X-WR-TIMEZONE:Europe/London
BEGIN:VTIMEZONE
TZID:Europe/London
X-LIC-LOCATION:Europe/London
BEGIN:DAYLIGHT
TZOFFSETFROM:+0000
TZOFFSETTO:+0100
TZNAME:BST
DTSTART:19700329T010000
RRULE:FREQ=YEARLY;BYMONTH=3;BYDAY=-1SU;BYHOUR=1;BYMINUTE=0;BYSECOND=0
END:DAYLIGHT
BEGIN:STANDARD
TZOFFSETFROM:+0100
TZOFFSETTO:+0000
TZNAME:GMT
DTSTART:19701025T010000
RRULE:FREQ=YEARLY;BYMONTH=10;BYDAY=-1SU;BYHOUR=1;BYMINUTE=0;BYSECOND=0
END:STANDARD
END:VTIMEZONE
BEGIN:VEVENT
UID:69e62667b6671@pkfl-littlejohn.com
STATUS:CONFIRMED
DTSTAMP:20260420T131311Z
CREATED:20200922T110000Z
LAST-MODIFIED:20260420T131311Z
DTSTART;TZID=Europe/London:20200922T110000
DTEND;TZID=Europe/London:20200922T120000
SUMMARY:Cybersecurity and Fraud Prevention
 
DESCRIPTION:Join us for the third in our series of webinars on Cybersecurity and Fraud
  Prevention. As well as recent security updates, we provide practical
  corporate advice on implementing effective policies and procedures. Our
  fraud experts cover fraud prevention with a focus on corporate governance
  requirements. Effective corporate governance measures are essential to
  prevent corporate scandals, fraud, and potential civil and criminal
  liability. Our team will talk you through the key documents to have in
  place. Our Cybersecurity specialist look at the cyber security landscape
  and update on high level issues and go through selection criteria for
  cyber assurance and accreditation. We cover:Fraud prevention and
  response plansCyber accreditation optionsLatest threat updates from the
  NCSC and other cyber security sourcesMore resources to help protect your
  people, their families and the business
 
X-ALT-DESC;FMTTYPE=text/html:<p>Join us for the third in our series of webinars on Cybersecurity and
  Fraud Prevention. As well as recent security updates, we provide
  practical corporate advice on implementing effective policies and
  procedures. Our fraud experts cover fraud prevention with a focus on
  corporate governance requirements. Effective corporate governance
  measures are essential to prevent corporate scandals, fraud, and
  potential civil and criminal liability. Our team will talk you through
  the key documents to have in place. Our Cybersecurity specialist look at
  the cyber security landscape and update on high level issues and go
  through selection criteria for cyber assurance and accreditation. We
  cover:Fraud prevention and response plansCyber accreditation
  optionsLatest threat updates from the NCSC and other cyber security
  sourcesMore resources to help protect your people, their families and the
  business</p>
 
CATEGORIES:past events
 
ORGANIZER;CN="PKF Littlejohn":MAILTO:info@pkfl-littlejohn.com
URL;VALUE=URI:https://www.pkf-l.com/events/cybersecurity-and-fraud-prevention/
END:VEVENT
END:VCALENDAR
