BEGIN:VCALENDAR
VERSION:2.0
PRODID:-//PKF Littlejohn//NONSGML Events//EN
CALSCALE:GREGORIAN
X-ORIGINAL-URL:https://www.pkf-l.com/events/cross-border-services-navigating-local-requirements/
X-WR-CALDESC:PKF Littlejohn - Events
X-WR-TIMEZONE:Europe/London
BEGIN:VTIMEZONE
TZID:Europe/London
X-LIC-LOCATION:Europe/London
BEGIN:DAYLIGHT
TZOFFSETFROM:+0000
TZOFFSETTO:+0100
TZNAME:BST
DTSTART:19700329T010000
RRULE:FREQ=YEARLY;BYMONTH=3;BYDAY=-1SU;BYHOUR=1;BYMINUTE=0;BYSECOND=0
END:DAYLIGHT
BEGIN:STANDARD
TZOFFSETFROM:+0100
TZOFFSETTO:+0000
TZNAME:GMT
DTSTART:19701025T010000
RRULE:FREQ=YEARLY;BYMONTH=10;BYDAY=-1SU;BYHOUR=1;BYMINUTE=0;BYSECOND=0
END:STANDARD
END:VTIMEZONE
BEGIN:VEVENT
UID:69e63ddf7c961@pkfl-littlejohn.com
STATUS:CONFIRMED
DTSTAMP:20260420T145319Z
CREATED:20220202T130000Z
LAST-MODIFIED:20260420T145319Z
DTSTART;TZID=Europe/London:20220202T130000
DTEND;TZID=Europe/London:20220202T140000
SUMMARY:Cross-border services – navigating local requirements
 
DESCRIPTION:The Cross-border services – navigating local
  requirements session will focus on the flow of services and how more
  and more countries are trying to ensure that remotely provided services
  are taxed where consumed.   It will do so providing information about
  indirect tax compliance requirements globally and steps that can be taken
  to minimise indirect tax administration and exposure. Transaction flow
  and issues when services are supplied in a cross-border
  environment Learning Objectives: Indirect tax effects of cloud
  computing services  The significance of the distinction between B2B and
  B2C sales Indirect tax compliance requirements, and steps to be taken to
  reduce administration
 
X-ALT-DESC;FMTTYPE=text/html:<p>The Cross-border services – navigating local
  requirements session will focus on the flow of services and how more
  and more countries are trying to ensure that remotely provided services
  are taxed where consumed.   It will do so providing information about
  indirect tax compliance requirements globally and steps that can be taken
  to minimise indirect tax administration and exposure. Transaction flow
  and issues when services are supplied in a cross-border
  environment Learning Objectives: Indirect tax effects of cloud
  computing services  The significance of the distinction between B2B and
  B2C sales Indirect tax compliance requirements, and steps to be taken to
  reduce administration</p>
 
CATEGORIES:past events
 
ORGANIZER;CN="PKF Littlejohn":MAILTO:info@pkfl-littlejohn.com
URL;VALUE=URI:https://www.pkf-l.com/events/cross-border-services-navigating-local-requirements/
END:VEVENT
END:VCALENDAR
