BEGIN:VCALENDAR
VERSION:2.0
PRODID:-//PKF Littlejohn//NONSGML Events//EN
CALSCALE:GREGORIAN
X-ORIGINAL-URL:https://www.pkf-l.com/events/broking-briefing-webinar-financial-resilience/
X-WR-CALDESC:PKF Littlejohn - Events
X-WR-TIMEZONE:Europe/London
BEGIN:VTIMEZONE
TZID:Europe/London
X-LIC-LOCATION:Europe/London
BEGIN:DAYLIGHT
TZOFFSETFROM:+0000
TZOFFSETTO:+0100
TZNAME:BST
DTSTART:19700329T010000
RRULE:FREQ=YEARLY;BYMONTH=3;BYDAY=-1SU;BYHOUR=1;BYMINUTE=0;BYSECOND=0
END:DAYLIGHT
BEGIN:STANDARD
TZOFFSETFROM:+0100
TZOFFSETTO:+0000
TZNAME:GMT
DTSTART:19701025T010000
RRULE:FREQ=YEARLY;BYMONTH=10;BYDAY=-1SU;BYHOUR=1;BYMINUTE=0;BYSECOND=0
END:STANDARD
END:VTIMEZONE
BEGIN:VEVENT
UID:69e63c71ab83c@pkfl-littlejohn.com
STATUS:CONFIRMED
DTSTAMP:20260420T144713Z
CREATED:20210505T110000Z
LAST-MODIFIED:20260420T144713Z
DTSTART;TZID=Europe/London:20210505T110000
DTEND;TZID=Europe/London:20210505T123000
SUMMARY:Broking Briefing webinar: Financial resilience
 
DESCRIPTION:Join us on 5 May 2021 at 11.00am, for the latest in our Broking Briefing
  webinar seriesMany insurance firms have coped well with the effects of
  the pandemic, particularly those with a well- diversified book of
  business, but as the fallout continues, what should their focus be?Our
  head of Insurance Intermediaries, Paul Goldwin will look at the effects
  of the pandemic on insurance intermediary firms in 2020 and what they
  might expect in 2021 and beyond. In particular, he will focus on how the
  FCA has been monitoring ‘resilience’ in the Insurance intermediary
  market and especiallyWhat firms should be doing to ensure operational and
  financial resilience, andHow they should address matters if things start
  to go wrong – including putting in place wind down plansOur Head of
  Restructuring, Stephen Goderski will focus on what a wind-down plan looks
  like for an insurance intermediary. Stephen will distil the requirements
  of a good wind-down plan and highlight potential pitfalls to be
  avoided.He will also cover restructuring and insolvency options,
  (including what has changed in the last twelve months), outline the
  latest thinking amongst restructuring professionals and explain how
  boards should approach severe financial difficulties.
 
X-ALT-DESC;FMTTYPE=text/html:<p>Join us on 5 May 2021 at 11.00am, for the latest in our Broking
  Briefing webinar seriesMany insurance firms have coped well with the
  effects of the pandemic, particularly those with a well- diversified book
  of business, but as the fallout continues, what should their focus be?Our
  head of Insurance Intermediaries, Paul Goldwin will look at the effects
  of the pandemic on insurance intermediary firms in 2020 and what they
  might expect in 2021 and beyond. In particular, he will focus on how the
  FCA has been monitoring ‘resilience’ in the Insurance intermediary
  market and especiallyWhat firms should be doing to ensure operational and
  financial resilience, andHow they should address matters if things start
  to go wrong – including putting in place wind down plansOur Head of
  Restructuring, Stephen Goderski will focus on what a wind-down plan looks
  like for an insurance intermediary. Stephen will distil the requirements
  of a good wind-down plan and highlight potential pitfalls to be
  avoided.He will also cover restructuring and insolvency options,
  (including what has changed in the last twelve months), outline the
  latest thinking amongst restructuring professionals and explain how
  boards should approach severe financial difficulties.</p>
 
CATEGORIES:past events
 
ORGANIZER;CN="PKF Littlejohn":MAILTO:info@pkfl-littlejohn.com
URL;VALUE=URI:https://www.pkf-l.com/events/broking-briefing-webinar-financial-resilience/
END:VEVENT
END:VCALENDAR
