BEGIN:VCALENDAR
VERSION:2.0
PRODID:-//PKF Littlejohn//NONSGML Events//EN
CALSCALE:GREGORIAN
X-ORIGINAL-URL:https://www.pkf-l.com/events/broking-breakfast-uk-gaap-and-cass-5-updates/
X-WR-CALDESC:PKF Littlejohn - Events
X-WR-TIMEZONE:Europe/London
BEGIN:VTIMEZONE
TZID:Europe/London
X-LIC-LOCATION:Europe/London
BEGIN:DAYLIGHT
TZOFFSETFROM:+0000
TZOFFSETTO:+0100
TZNAME:BST
DTSTART:19700329T010000
RRULE:FREQ=YEARLY;BYMONTH=3;BYDAY=-1SU;BYHOUR=1;BYMINUTE=0;BYSECOND=0
END:DAYLIGHT
BEGIN:STANDARD
TZOFFSETFROM:+0100
TZOFFSETTO:+0000
TZNAME:GMT
DTSTART:19701025T010000
RRULE:FREQ=YEARLY;BYMONTH=10;BYDAY=-1SU;BYHOUR=1;BYMINUTE=0;BYSECOND=0
END:STANDARD
END:VTIMEZONE
BEGIN:VEVENT
UID:69e6292b4db3e@pkfl-littlejohn.com
STATUS:CONFIRMED
DTSTAMP:20260420T132459Z
CREATED:20241022T090000Z
LAST-MODIFIED:20260420T132459Z
DTSTART;TZID=Europe/London:20241022T090000
SUMMARY:Broking Breakfast: UK GAAP and CASS 5 updates
 
DESCRIPTION:
Join us in person on Tuesday 22 October at our PKF Leeds office, as our
  industry experts share valuable insights in areas relevant to insurance
  intermediaries based in the North of England. 
 



Insurance Partner,&nbsp;Satya Beekarry, will share an overview of the
  upcoming changes to UK Generally Accepted Accounting Practice (UK
  GAAP),&nbsp;focusing on the accounting for revenue from insurance broking
  and related activities. &nbsp;We will explore the areas firms need to be
  considering in advance of the changes becoming effective, as these
  updates are likely to have a commercial impact for insurance
  intermediaries.
 



Senior Manager and CASS specialist, Tom Herne, will discuss the results
  from our most recent benchmarking exercise of CASS 5 breaches, how these
  have changed across the market and what firms need to do to remain
  compliant.
 



Date:Tuesday 22 October 2024
 



Time:Arrival and refreshments from 9:30amBriefing from 10:00 until 11:00am
 



Venue:PKF Leeds office - 1 Park Row, Leeds LS1 5HN
 

X-ALT-DESC;FMTTYPE=text/html:<p>
 
Join us in person on Tuesday 22 October at our PKF Leeds office, as our
  industry experts share valuable insights in areas relevant to insurance
  intermediaries based in the North of England. 
 



Insurance Partner,&amp;nbsp;Satya Beekarry, will share an overview of the
  upcoming changes to UK Generally Accepted Accounting Practice (UK
  GAAP),&amp;nbsp;focusing on the accounting for revenue from insurance
  broking and related activities. &amp;nbsp;We will explore the areas firms
  need to be considering in advance of the changes becoming effective, as
  these updates are likely to have a commercial impact for insurance
  intermediaries.
 



Senior Manager and CASS specialist, Tom Herne, will discuss the results
  from our most recent benchmarking exercise of CASS 5 breaches, how these
  have changed across the market and what firms need to do to remain
  compliant.
 



Date:Tuesday 22 October 2024
 



Time:Arrival and refreshments from 9:30amBriefing from 10:00 until 11:00am
 



Venue:PKF Leeds office - 1 Park Row, Leeds LS1 5HN
 
</p>
 
CATEGORIES:past events
 
ORGANIZER;CN="PKF Littlejohn":MAILTO:info@pkfl-littlejohn.com
URL;VALUE=URI:https://www.pkf-l.com/events/broking-breakfast-uk-gaap-and-cass-5-updates/
END:VEVENT
END:VCALENDAR
